BEGIN:VCALENDAR
VERSION:2.0
PRODID:-//Community Foundation of Southern New Mexico - ECPv6.15.13//NONSGML v1.0//EN
CALSCALE:GREGORIAN
METHOD:PUBLISH
X-ORIGINAL-URL:https://www.communityfoundationofsouthernnewmexico.org
X-WR-CALDESC:Events for Community Foundation of Southern New Mexico
REFRESH-INTERVAL;VALUE=DURATION:PT1H
X-Robots-Tag:noindex
X-PUBLISHED-TTL:PT1H
BEGIN:VTIMEZONE
TZID:Asia/Krasnoyarsk
BEGIN:STANDARD
TZOFFSETFROM:+0700
TZOFFSETTO:+0700
TZNAME:+07
DTSTART:20250101T000000
END:STANDARD
END:VTIMEZONE
BEGIN:VEVENT
DTSTART;TZID=Asia/Krasnoyarsk:20260111T100000
DTEND;TZID=Asia/Krasnoyarsk:20260111T130000
DTSTAMP:20260422T170904
CREATED:20260109T171923Z
LAST-MODIFIED:20260109T171926Z
UID:10000266-1768125600-1768136400@www.communityfoundationofsouthernnewmexico.org
SUMMARY:Sunday Brunch Record Club
DESCRIPTION:Join The Range LC on Sunday\, January 11th for our (rescheduled) Sunday Brunch Record Club at EL CAMINO in collaboration with Learning Action Buffet! \n\n\n\nCome early to enjoy complimentary brunch (while supplies last) 🍳as well as live DJs\, open vinyl tables\, youth vendors\, a photo booth and more throughout the day! ☕️ Vendors can sign up HERE https://bio.site/therangelc  🧵 \n\n\n\nWe can’t wait to see you there. \n\n\n\n#recordswap #recordclub #recordclublc #vendormarket #vendorwanted #lascruces #lascrucesevents #localmusic #localshow #indiemusic
URL:https://www.communityfoundationofsouthernnewmexico.org/event/sunday-brunch-record-club/
END:VEVENT
END:VCALENDAR