BEGIN:VCALENDAR
VERSION:2.0
PRODID:-//Community Foundation of Southern New Mexico - ECPv6.15.13//NONSGML v1.0//EN
CALSCALE:GREGORIAN
METHOD:PUBLISH
X-WR-CALNAME:Community Foundation of Southern New Mexico
X-ORIGINAL-URL:https://www.communityfoundationofsouthernnewmexico.org
X-WR-CALDESC:Events for Community Foundation of Southern New Mexico
REFRESH-INTERVAL;VALUE=DURATION:PT1H
X-Robots-Tag:noindex
X-PUBLISHED-TTL:PT1H
BEGIN:VTIMEZONE
TZID:Asia/Krasnoyarsk
BEGIN:STANDARD
TZOFFSETFROM:+0700
TZOFFSETTO:+0700
TZNAME:+07
DTSTART:20250101T000000
END:STANDARD
END:VTIMEZONE
BEGIN:VEVENT
DTSTART;TZID=Asia/Krasnoyarsk:20260502T080000
DTEND;TZID=Asia/Krasnoyarsk:20260502T120000
DTSTAMP:20260421T170121
CREATED:20260402T174045Z
LAST-MODIFIED:20260402T174048Z
UID:10000288-1777708800-1777723200@www.communityfoundationofsouthernnewmexico.org
SUMMARY:St. Andrew's Episcopal Church Rummage Sale
DESCRIPTION:St. Andrew’s Episcopal Church\, 518 N. Alameda Blvd\, Las Cruces\, NM will hold its annual spring rummage sale on Saturday\, May 2 from 8am to noon. The proceeds will be shared with the Shoebox Ministry\, the St. Andrew’s Hospitality House and Tents to Rents. Lots of household items\, appliances and plants\, too much to list. Stop by\, browse and buy. Please support our Church missions.
URL:https://www.communityfoundationofsouthernnewmexico.org/event/st-andrews-episcopal-church-rummage-sale/
END:VEVENT
BEGIN:VEVENT
DTSTART;TZID=Asia/Krasnoyarsk:20260512T093000
DTEND;TZID=Asia/Krasnoyarsk:20260512T103000
DTSTAMP:20260421T170121
CREATED:20250116T184805Z
LAST-MODIFIED:20250116T184807Z
UID:10000059-1778578200-1778581800@www.communityfoundationofsouthernnewmexico.org
SUMMARY:Asombro Institute Volunteer Gathering (Monthly)
DESCRIPTION:Join us for monthly volunteer gatherings\, held on the second Tuesday of most months from 9:30AM -10:30AM at the Asombro Institute for Science Education office at 401 E College Drive\, Las Cruces. This is a great opportunity to meet other volunteers and learn more about Asombro. We work on a variety of tasks such as folding newsletters\, stapling\, sharpening\, and other various tasks that help us prepare for education programs. Open to new and interested volunteers of all ages. Light refreshments provided.
URL:https://www.communityfoundationofsouthernnewmexico.org/event/asombro-institute-volunteer-gathering-monthly/2026-05-12/
LOCATION:Asombro Institute for Science Education\, 401 E College Drive\, Las Cruces\, New Mexico\, 88005
END:VEVENT
BEGIN:VEVENT
DTSTART;TZID=Asia/Krasnoyarsk:20260513T120000
DTEND;TZID=Asia/Krasnoyarsk:20260513T130000
DTSTAMP:20260421T170121
CREATED:20250508T200930Z
LAST-MODIFIED:20250508T201047Z
UID:10000121-1778673600-1778677200@www.communityfoundationofsouthernnewmexico.org
SUMMARY:Interagency Council
DESCRIPTION:Join us for Interagency Council! Meetings are every second Wednesday of each month at the Community Foundation of Southern New Mexico (2640 El Paseo Rd). We meet from 12:00 PM to 1:00 PM. Feel free to bring your lunch and join us for a meaningful hour of connection and collaboration!  \n\n\n\nAll attendees will have a chance to share updates and news from their organizations.  \n\n\n\nLet’s come together to celebrate community\, share resources\, and support one another. We hope to see you there!
URL:https://www.communityfoundationofsouthernnewmexico.org/event/interagency-council-2/2026-05-13/
LOCATION:Community Foundation of Southern New Mexico\, 2640 El Paseo Rd\, Las Cruces\, 88001\, United States
END:VEVENT
BEGIN:VEVENT
DTSTART;TZID=Asia/Krasnoyarsk:20260519T093000
DTEND;TZID=Asia/Krasnoyarsk:20260519T120000
DTSTAMP:20260421T170121
CREATED:20260109T171127Z
LAST-MODIFIED:20260109T171130Z
UID:10000209-1779183000-1779192000@www.communityfoundationofsouthernnewmexico.org
SUMMARY:Parkinson's Support Group Monthly Meeting
DESCRIPTION:A gathering of people diagnosed with Parkinson’s and their caregivers for camaraderie and to hear a special speaker.Relatives and healthcare professionals are also welcome! \n\n\n\nGathering at 9:30 am – 10:30 amSpeaker at 10:30 am – 12:00 noon \n\n\n\nHoliday Inn Express (across from Sam’s)2142 Telshor CourtLas Cruces
URL:https://www.communityfoundationofsouthernnewmexico.org/event/parkinsons-support-group-monthly-meeting/2026-05-19/
END:VEVENT
END:VCALENDAR