BEGIN:VCALENDAR
VERSION:2.0
PRODID:-//Community Foundation of Southern New Mexico - ECPv6.15.13//NONSGML v1.0//EN
CALSCALE:GREGORIAN
METHOD:PUBLISH
X-WR-CALNAME:Community Foundation of Southern New Mexico
X-ORIGINAL-URL:https://www.communityfoundationofsouthernnewmexico.org
X-WR-CALDESC:Events for Community Foundation of Southern New Mexico
REFRESH-INTERVAL;VALUE=DURATION:PT1H
X-Robots-Tag:noindex
X-PUBLISHED-TTL:PT1H
BEGIN:VTIMEZONE
TZID:Asia/Krasnoyarsk
BEGIN:STANDARD
TZOFFSETFROM:+0700
TZOFFSETTO:+0700
TZNAME:+07
DTSTART:20250101T000000
END:STANDARD
END:VTIMEZONE
BEGIN:VEVENT
DTSTART;TZID=Asia/Krasnoyarsk:20260306T080000
DTEND;TZID=Asia/Krasnoyarsk:20260306T170000
DTSTAMP:20260421T172205
CREATED:20260109T172229Z
LAST-MODIFIED:20260109T172231Z
UID:10000267-1772784000-1772816400@www.communityfoundationofsouthernnewmexico.org
SUMMARY:Get the Grant Training
DESCRIPTION:Join us for an immersive grant writing learning opportunity from The Grant Plant. This three-day workshop will include presentations\, demonstrations\, and hands-on activities focused on planning and writing strong grant proposals and coordinating and preparing common attachments. \n\n\n\nIncludes: Workbook and hands-on activities \n\n\n\nSchedule: March 4-6\, 9AM-4PM; 4 Topics/day \n\n\n\nLocation: Community Foundation of Southern New Mexico640 El Paseo Rd\, Las Cruces\, NM 88001 \n\n\n\nTopics:The Landscape — Functions of proposals\, types and component characteristics of proposals\, understanding funders and grantor prioritiesThe Guidance — Confirming fit\, flagging issues\, reviewing required registrations and pre-submission actions\, understanding review and scoringThe Set-Up — Creating a project team\, rough budgeting and project planning\, designing proposal work plans\, creating document templateThe Writing — Writing well\, dealing with length limits and formatting\, understanding the experience of reviewingThe Problem — Researching and explaining the need you are addressing\, identifying barriers\, teeing up a validated approachThe Solution — Planning the project\, justifying your approach\, developing work plans and timelines\, creating supporting materialsThe Results — Developing strong result measures\, designing evaluation\, developing supporting attachmentsThe People — Describing your agency background\, communicating capability and capacity\, gathering attachmentsThe Money — Creating budgets and budget justifications\, including contractors and sub-awardees\, tackling financial managementThe Bookends — Creating project summaries and abstracts\, responding to sustainability questions\, addressing disseminationThe Plant — Ensuring everything is complete and compliant\, submitting\, properly documenting the project\, using funder feedbackThe Funder — Learn from a funders panel representing different types of grant-making entities\, hear their perspectives and ask questions
URL:https://www.communityfoundationofsouthernnewmexico.org/event/get-the-grant-training/
LOCATION:Community Foundation of Southern New Mexico\, 2640 El Paseo Rd\, Las Cruces\, 88001\, United States
ORGANIZER;CN="The Grant Plant NM":MAILTO:mail@thegrantplantnm.com
END:VEVENT
BEGIN:VEVENT
DTSTART;TZID=Asia/Krasnoyarsk:20260306T080000
DTEND;TZID=Asia/Krasnoyarsk:20260308T170000
DTSTAMP:20260421T172205
CREATED:20260109T171522Z
LAST-MODIFIED:20260109T171525Z
UID:10000265-1772784000-1772989200@www.communityfoundationofsouthernnewmexico.org
SUMMARY:High Desert Play Development Workshop and Festival
DESCRIPTION:High Desert Play Development Workshop and Festival\, featuring stagings and live readings of new plays written by professional playwrights and southern New Mexico residents.  \n\n\n\nMarch 6-8\, 2026 (times TBD)\, ASNMSU Center for the Arts (on the New Mexico State University campus)\, 1000 E. University Ave.\, Las Cruces.  \n\n\n\nTickets: $10\, available at https://nmsutheatre.ludus.com/index.php or 575-646-4515.
URL:https://www.communityfoundationofsouthernnewmexico.org/event/high-desert-play-development-workshop-and-festival/
END:VEVENT
BEGIN:VEVENT
DTSTART;TZID=Asia/Krasnoyarsk:20260310T093000
DTEND;TZID=Asia/Krasnoyarsk:20260310T103000
DTSTAMP:20260421T172205
CREATED:20250116T184805Z
LAST-MODIFIED:20250116T184807Z
UID:10000057-1773135000-1773138600@www.communityfoundationofsouthernnewmexico.org
SUMMARY:Asombro Institute Volunteer Gathering (Monthly)
DESCRIPTION:Join us for monthly volunteer gatherings\, held on the second Tuesday of most months from 9:30AM -10:30AM at the Asombro Institute for Science Education office at 401 E College Drive\, Las Cruces. This is a great opportunity to meet other volunteers and learn more about Asombro. We work on a variety of tasks such as folding newsletters\, stapling\, sharpening\, and other various tasks that help us prepare for education programs. Open to new and interested volunteers of all ages. Light refreshments provided.
URL:https://www.communityfoundationofsouthernnewmexico.org/event/asombro-institute-volunteer-gathering-monthly/2026-03-10/
LOCATION:Asombro Institute for Science Education\, 401 E College Drive\, Las Cruces\, New Mexico\, 88005
END:VEVENT
BEGIN:VEVENT
DTSTART;TZID=Asia/Krasnoyarsk:20260311T120000
DTEND;TZID=Asia/Krasnoyarsk:20260311T130000
DTSTAMP:20260421T172205
CREATED:20250508T200930Z
LAST-MODIFIED:20250508T201047Z
UID:10000119-1773230400-1773234000@www.communityfoundationofsouthernnewmexico.org
SUMMARY:Interagency Council
DESCRIPTION:Join us for Interagency Council! Meetings are every second Wednesday of each month at the Community Foundation of Southern New Mexico (2640 El Paseo Rd). We meet from 12:00 PM to 1:00 PM. Feel free to bring your lunch and join us for a meaningful hour of connection and collaboration!  \n\n\n\nAll attendees will have a chance to share updates and news from their organizations.  \n\n\n\nLet’s come together to celebrate community\, share resources\, and support one another. We hope to see you there!
URL:https://www.communityfoundationofsouthernnewmexico.org/event/interagency-council-2/2026-03-11/
LOCATION:Community Foundation of Southern New Mexico\, 2640 El Paseo Rd\, Las Cruces\, 88001\, United States
END:VEVENT
BEGIN:VEVENT
DTSTART;TZID=Asia/Krasnoyarsk:20260317T093000
DTEND;TZID=Asia/Krasnoyarsk:20260317T120000
DTSTAMP:20260421T172205
CREATED:20260109T171127Z
LAST-MODIFIED:20260109T171130Z
UID:10000207-1773739800-1773748800@www.communityfoundationofsouthernnewmexico.org
SUMMARY:Parkinson's Support Group Monthly Meeting
DESCRIPTION:A gathering of people diagnosed with Parkinson’s and their caregivers for camaraderie and to hear a special speaker.Relatives and healthcare professionals are also welcome! \n\n\n\nGathering at 9:30 am – 10:30 amSpeaker at 10:30 am – 12:00 noon \n\n\n\nHoliday Inn Express (across from Sam’s)2142 Telshor CourtLas Cruces
URL:https://www.communityfoundationofsouthernnewmexico.org/event/parkinsons-support-group-monthly-meeting/2026-03-17/
END:VEVENT
BEGIN:VEVENT
DTSTART;TZID=Asia/Krasnoyarsk:20260319T190000
DTEND;TZID=Asia/Krasnoyarsk:20260319T203000
DTSTAMP:20260421T172205
CREATED:20260318T161858Z
LAST-MODIFIED:20260318T161901Z
UID:10000274-1773946800-1773952200@www.communityfoundationofsouthernnewmexico.org
SUMMARY:Friends of the NMFRHM Culture Series: “The Art and Science of Winemaking"
DESCRIPTION:Vintner\, wine enthusiast and NMSU ACES instructor Dale Ellis will explain winemaking and the challenges faced by growers of fruit of the vine in Southern New Mexico in the final presentation of the 2025-26 season of the Friends of the Farm and Ranch Museum’s Culture Series. \n\n\n\nAt NMSU\, Ellis teaches how to turn grapes into wine\, as well as production economics\, and marketing. His work emphasizes precise management of measurable variables while preserving the individuality of terroir. As President of the Southern Rio Grande Chapter of the New Mexico Vine and Wine Society\, he contributes to regional wine leadership through professional tastings\, formal evaluations\, judging\, and educational workshops. \n\n\n\nThe event will be on Thursday\, March 19\, at 7 p.m. in the Museum Auditorium. Admission is free. It will also livestream on Facebook at facebook.com/FriendsNMFRHM.
URL:https://www.communityfoundationofsouthernnewmexico.org/event/friends-of-the-nmfrhm-culture-series-the-art-and-science-of-winemaking/
ORGANIZER;CN="Friends of New Mexico Farm and Ranch Heritage Museum":MAILTO:friends.nmfrhm@gmail.com
END:VEVENT
BEGIN:VEVENT
DTSTART;TZID=Asia/Krasnoyarsk:20260327T080000
DTEND;TZID=Asia/Krasnoyarsk:20260328T170000
DTSTAMP:20260421T172205
CREATED:20260109T173850Z
LAST-MODIFIED:20260109T173854Z
UID:10000268-1774598400-1774717200@www.communityfoundationofsouthernnewmexico.org
SUMMARY:Las Colcheras Quilt Guild 17th Judged Quilt Show
DESCRIPTION:Las Colcheras’ 17th Judged Quilt Show ✨🧵March 27–28Las Cruces Convention Center \n\n\n\nJoin us as we celebrate 38 years of quilting with a stunning showcase of artistry\, tradition\, and creativity! From beautifully judged quilts to a vibrant community of makers\, this milestone event is one you won’t want to miss. \n\n\n\nCalling All Vendors! 🌟Be part of this special Quilt Show and connect with hundreds of quilters\, crafters\, and textile enthusiasts.✔️ Showcase your products✔️ Meet engaged buyers✔️ Celebrate quilting traditions \n\n\n\nBooth spaces are available — early registration is encouraged! \n\n\n\nWhether you’re a vendor\, quilter\, or admirer of textile art\, come celebrate the craft that stitches our community together.
URL:https://www.communityfoundationofsouthernnewmexico.org/event/las-colcheras-quilt-guild-17th-judged-quilt-show/
LOCATION:Las Cruces Convention Center\, 680 E University Ave\, Las Cruces\, 88001\, United States
ORGANIZER;CN="Las Colcheras Quilt Guild":MAILTO:lcquiltguildshow@gmail.com
END:VEVENT
BEGIN:VEVENT
DTSTART;TZID=Asia/Krasnoyarsk:20260328T090000
DTEND;TZID=Asia/Krasnoyarsk:20260328T120000
DTSTAMP:20260421T172205
CREATED:20260303T152640Z
LAST-MODIFIED:20260303T152643Z
UID:10000273-1774688400-1774699200@www.communityfoundationofsouthernnewmexico.org
SUMMARY:Fix-It Fair
DESCRIPTION:Fix-It Fair – Free Community Repair Event \n\n\n\nDate: Saturday\, March 28\, 2026Time: 9:00 AM – 12:00 PMLocation: Alameda Elementary1325 N. AlamedaLas Cruces \n\n\n\nHosted by: Doña Ana Communities UnitedIn partnership with: Cruces Creatives and Plugged In For Good \n\n\n\nEvent Description:Bring your broken household items and volunteer fixers will work with you to repair them at no cost. The Fix-It Fair promotes reuse\, reduces waste\, and builds community through skill-sharing and collaboration. \n\n\n\nVolunteers Needed:We are seeking volunteers\, especially those with repair skills\, as well as community members willing to help with check-in\, greeting\, and event support. This is a great opportunity to share your skills and support your community. \n\n\n\nThe Golden Rule: If you can carry it in\, we’ll try to fix it. \n\n\n\nPlease Note: No TVs\, microwaves\, gas engines\, or large appliances. \n\n\n\nCost: Free and open to the publicVolunteer or general inquiries: paty@dacommunitiesunited.org
URL:https://www.communityfoundationofsouthernnewmexico.org/event/fix-it-fair/
END:VEVENT
END:VCALENDAR