BEGIN:VCALENDAR
VERSION:2.0
PRODID:-//Community Foundation of Southern New Mexico - ECPv6.15.13//NONSGML v1.0//EN
CALSCALE:GREGORIAN
METHOD:PUBLISH
X-ORIGINAL-URL:https://www.communityfoundationofsouthernnewmexico.org
X-WR-CALDESC:Events for Community Foundation of Southern New Mexico
REFRESH-INTERVAL;VALUE=DURATION:PT1H
X-Robots-Tag:noindex
X-PUBLISHED-TTL:PT1H
BEGIN:VTIMEZONE
TZID:Asia/Krasnoyarsk
BEGIN:STANDARD
TZOFFSETFROM:+0700
TZOFFSETTO:+0700
TZNAME:+07
DTSTART:20240101T000000
END:STANDARD
END:VTIMEZONE
BEGIN:VEVENT
DTSTART;TZID=Asia/Krasnoyarsk:20250114T093000
DTEND;TZID=Asia/Krasnoyarsk:20250114T103000
DTSTAMP:20260422T183037
CREATED:20250116T184805Z
LAST-MODIFIED:20250116T184807Z
UID:10000043-1736847000-1736850600@www.communityfoundationofsouthernnewmexico.org
SUMMARY:Asombro Institute Volunteer Gathering (Monthly)
DESCRIPTION:Join us for monthly volunteer gatherings\, held on the second Tuesday of most months from 9:30AM -10:30AM at the Asombro Institute for Science Education office at 401 E College Drive\, Las Cruces. This is a great opportunity to meet other volunteers and learn more about Asombro. We work on a variety of tasks such as folding newsletters\, stapling\, sharpening\, and other various tasks that help us prepare for education programs. Open to new and interested volunteers of all ages. Light refreshments provided.
URL:https://www.communityfoundationofsouthernnewmexico.org/event/asombro-institute-volunteer-gathering-monthly/2025-01-14/
LOCATION:Asombro Institute for Science Education\, 401 E College Drive\, Las Cruces\, New Mexico\, 88005
END:VEVENT
BEGIN:VEVENT
DTSTART;TZID=Asia/Krasnoyarsk:20250117T120000
DTEND;TZID=Asia/Krasnoyarsk:20250117T140000
DTSTAMP:20260422T183037
CREATED:20250108T213046Z
LAST-MODIFIED:20250108T213047Z
UID:10000041-1737115200-1737122400@www.communityfoundationofsouthernnewmexico.org
SUMMARY:Car Seat Clinic
DESCRIPTION:In collaboration with Safer New Mexico Now and the Success Partnership\, the Community Foundation of Southern New Mexico will be hosting a car seat clinic! Proper car seat installation and use can make all the difference in protecting young passengers during every ride. Technicians will be onsite to provide hands-on assistance with car seat installation\, safety checks\, and helpful tips to ensure your child’s seat is correctly secured.
URL:https://www.communityfoundationofsouthernnewmexico.org/event/car-seat-clinic/
LOCATION:Community Foundation of Southern New Mexico\, 2640 El Paseo Rd\, Las Cruces\, 88001\, United States
END:VEVENT
END:VCALENDAR