BEGIN:VCALENDAR
VERSION:2.0
PRODID:-//Community Foundation of Southern New Mexico - ECPv6.15.13//NONSGML v1.0//EN
CALSCALE:GREGORIAN
METHOD:PUBLISH
X-ORIGINAL-URL:https://www.communityfoundationofsouthernnewmexico.org
X-WR-CALDESC:Events for Community Foundation of Southern New Mexico
REFRESH-INTERVAL;VALUE=DURATION:PT1H
X-Robots-Tag:noindex
X-PUBLISHED-TTL:PT1H
BEGIN:VTIMEZONE
TZID:America/Denver
BEGIN:DAYLIGHT
TZOFFSETFROM:-0700
TZOFFSETTO:-0600
TZNAME:MDT
DTSTART:20230312T090000
END:DAYLIGHT
BEGIN:STANDARD
TZOFFSETFROM:-0600
TZOFFSETTO:-0700
TZNAME:MST
DTSTART:20231105T080000
END:STANDARD
BEGIN:DAYLIGHT
TZOFFSETFROM:-0700
TZOFFSETTO:-0600
TZNAME:MDT
DTSTART:20240310T090000
END:DAYLIGHT
BEGIN:STANDARD
TZOFFSETFROM:-0600
TZOFFSETTO:-0700
TZNAME:MST
DTSTART:20241103T080000
END:STANDARD
BEGIN:DAYLIGHT
TZOFFSETFROM:-0700
TZOFFSETTO:-0600
TZNAME:MDT
DTSTART:20250309T090000
END:DAYLIGHT
BEGIN:STANDARD
TZOFFSETFROM:-0600
TZOFFSETTO:-0700
TZNAME:MST
DTSTART:20251102T080000
END:STANDARD
END:VTIMEZONE
BEGIN:VTIMEZONE
TZID:Asia/Krasnoyarsk
BEGIN:STANDARD
TZOFFSETFROM:+0700
TZOFFSETTO:+0700
TZNAME:+07
DTSTART:20230101T000000
END:STANDARD
END:VTIMEZONE
BEGIN:VEVENT
DTSTART;TZID=America/Denver:20240907T180000
DTEND;TZID=America/Denver:20240907T220000
DTSTAMP:20260422T235938
CREATED:20230721T075354Z
LAST-MODIFIED:20240716T162123Z
UID:10000001-1725732000-1725746400@www.communityfoundationofsouthernnewmexico.org
SUMMARY:Spirit of Giving Gala
DESCRIPTION:Join us for a magical evening at the 2024 Spirit of Giving Gala! This is a celebration of giving as we unite with individuals and organizations to make a meaningful impact and strengthen our communities in Southern New Mexico. \nAt Your Community Foundation\, our work is rooted in ensuring communities across our region are connected to the resources they need to thrive. This is at the heart of all we do. The focus of this year’s gala has been to highlight our Greatest Needs Impact Fund. We want to thank our community for their continued support. This fund continues to provide a safety net for our communities\, local businesses\, and nonprofit partners in our times of greatest need. The Greatest Needs Impact Fund is more than a resource; it is a commitment to our community’s future. It is a promise that when the unpredictable strikes\, we will be prepared. We will stand ready to support local businesses\, nonprofit partners\, and the most affected individuals\, to not just recover\, but to emerge stronger. \nIn the face of adversity\, our community has shown incredible solidarity. Together\, we continue to create a safety net that strengthens and supports our community now and for generations to come.
URL:https://www.communityfoundationofsouthernnewmexico.org/event/spirit-of-giving-gala/
LOCATION:Las Cruces Convention Center\, 680 E University Ave\, Las Cruces\, 88001\, United States
CATEGORIES:Auction
ATTACH;FMTTYPE=image/jpeg:https://www.communityfoundationofsouthernnewmexico.org/wp-content/uploads/2023/07/SpiritofGivingThumb2.jpg
END:VEVENT
BEGIN:VEVENT
DTSTART;TZID=Asia/Krasnoyarsk:20240913T183000
DTEND;TZID=Asia/Krasnoyarsk:20240913T203000
DTSTAMP:20260422T235938
CREATED:20240812T193005Z
LAST-MODIFIED:20240812T193006Z
UID:10000025-1726252200-1726259400@www.communityfoundationofsouthernnewmexico.org
SUMMARY:Paws\, Claws & Hooves Fundraiser
DESCRIPTION:We invite you to join our inaugural Paws\, Claws\, and Hooves Fundraising Event! \n\n\n\nWe are excited to celebrate an evening of fun and giving to make an impact in our community. Our evening will include dinner\, a silent auction\, and a cash bar\, all to support the expansion of veterinary care for our animal companions. We are focused on working toward 24/7 emergency veterinary care in Las Cruces\, while assisting our veterinary professionals by providing support\, resources\, and community education. \n\n\n\nThe American Veterinary Medical Association has rated the accessibility of veterinary care in Dona Ana a 12 out of 100\, deeming it “nearly inaccessible.” At Animal Companions\, we are committed to helping our clinics and shelters expand veterinary services and providing 24/7 care for pets in Las Cruces. Together\, we can enhance veterinary services for families and their animal companions. \n\n\n\nAll the funds raised at our Paws\, Claws\, and Hooves Fundraising Event will go toward recruiting veterinarians and aiding debt relief for new veterinarians in Las Cruces. Animal Companions fully supports externships for veterinary students\, helping graduates find jobs in Las Cruces. Of vital importance\, we will use donations to educate community members about animal care while working to establish 24/7 emergency clinics in Las Cruces.
URL:https://www.communityfoundationofsouthernnewmexico.org/event/paws-claws-hooves-fundraiser/
LOCATION:New Mexico Farm & Ranch Heritage Museum\, 4100 Dripping Springs Rd\, Las Cruces\, New Mexico\, 88011
END:VEVENT
BEGIN:VEVENT
DTSTART;TZID=Asia/Krasnoyarsk:20240914T130000
DTEND;TZID=Asia/Krasnoyarsk:20240914T150000
DTSTAMP:20260422T235938
CREATED:20240813T143044Z
LAST-MODIFIED:20240813T143045Z
UID:10000027-1726318800-1726326000@www.communityfoundationofsouthernnewmexico.org
SUMMARY:Fundraiser for the Historic Phillips Chapel and Clarence Fielder Scholarship Fund
DESCRIPTION:Celebrate the oldest extant African American church in New Mexico and the life of the historian and teacher\, Clarence H. Fielder! Proceeds from the event will fund the continued restoration of the Historic Phillips Chapel and the Clarence H. Fielder Memorial Scholarship held at the Community Foundation of Southern New Mexico. \n\n\n\nMusic by the Rio Grande Revelers! There will be a raffle to win a Las Colcheras Guild quilt!
URL:https://www.communityfoundationofsouthernnewmexico.org/event/fundraiser-for-the-historic-phillips-chapel-and-clarence-fielder-scholarship-fund/
END:VEVENT
BEGIN:VEVENT
DTSTART;TZID=Asia/Krasnoyarsk:20240920T000000
DTEND;TZID=Asia/Krasnoyarsk:20240921T235959
DTSTAMP:20260422T235938
CREATED:20240812T203908Z
LAST-MODIFIED:20240812T203909Z
UID:10000026-1726790400-1726963199@www.communityfoundationofsouthernnewmexico.org
SUMMARY:Golfing for Educators Scramble
DESCRIPTION:Join us in striving to improve the narrative around Education while Increasing the QUANITY and QUALITY of Educators in New Mexico. \n\n\n\nProceeds from the event will benefit the Dr. Karen M. Trujillo Memorial Foundation. At the heart of the Dr. Karen M. Trujillo Memorial Foundation’s mission lies a profound dedication to sculpting a brighter tomorrow for all of New Mexico’s children. Through scholarships\, they aim to not only cultivate future educators but also ignite a passion for STEM (Science\, Technology\, Engineering\, and Mathematics) education among tomorrow’s leaders and innovators. Moreover\, they strive to extend their impact beyond the classroom\, fostering a community where every child has the opportunity to thrive and contribute positively to society.
URL:https://www.communityfoundationofsouthernnewmexico.org/event/golfing-for-educators-scramble/
LOCATION:NMSU Golf Course\, 3000 Herb Wimberly Dr.\, Las Cruces\, New Mexico\, 88011
END:VEVENT
BEGIN:VEVENT
DTSTART;TZID=Asia/Krasnoyarsk:20240921T100000
DTEND;TZID=Asia/Krasnoyarsk:20240921T120000
DTSTAMP:20260422T235938
CREATED:20240812T191646Z
LAST-MODIFIED:20240812T191711Z
UID:10000024-1726912800-1726920000@www.communityfoundationofsouthernnewmexico.org
SUMMARY:Stroll With TOTS: Meeting Milestones Fun Walk
DESCRIPTION:Decorate your wheels and celebrate 45 years of helping children throughout Dona Ana and Sierra counties grow and thrive! The event is FREE to the community and there will be music\, prizes\, food and activities! \n\n\n\nTOTS Early Intervention program provides services and supports to children birth to age 3 that have a developmental delay or at risk of a delay.
URL:https://www.communityfoundationofsouthernnewmexico.org/event/stroll-with-tots-meeting-milestones-fun-walk/
LOCATION:Pat & Lou Sisbarro Community Park\, 3110 Arrowhead Dr\, Las Cruces\, New Mexico\, 88001
END:VEVENT
BEGIN:VEVENT
DTSTART;TZID=Asia/Krasnoyarsk:20240927T150000
DTEND;TZID=Asia/Krasnoyarsk:20240928T080000
DTSTAMP:20260422T235938
CREATED:20240916T202210Z
LAST-MODIFIED:20240916T202558Z
UID:10000034-1727449200-1727510400@www.communityfoundationofsouthernnewmexico.org
SUMMARY:Tuttle Family Estate Sale
DESCRIPTION:Support the Tuttle Family Estate Sale! Proceeds support the mission of CFSNM and our aging neighbors! \n\n\n\nWhat: Tuttle Estate Sale \n\n\n\nWhen: September 27 from 3 to 6 p.m. and September 28 from 8 a.m. to 1 p.m. \n\n\n\nWhere: 708 Engler Rd\, Las Cruces\, NM 88007 \n\n\n\nThe money raised at this estate sale will go to support the mission of Your Community Foundation of Southern New Mexico and our aging neighbors. The estate sale will help provide support and senior services to improve the health and quality of life of our aging neighbors.
URL:https://www.communityfoundationofsouthernnewmexico.org/event/tuttle-family-estate-sale/
LOCATION:Tuttle Estate\, 708 Engler Rd\, Las Cruces\, New Mexico\, 88007\, United States
ATTACH;FMTTYPE=image/png:https://www.communityfoundationofsouthernnewmexico.org/wp-content/uploads/2024/09/Tuttle-Estate-Sale.png
END:VEVENT
END:VCALENDAR