BEGIN:VCALENDAR
VERSION:2.0
PRODID:-//Community Foundation of Southern New Mexico - ECPv6.15.13//NONSGML v1.0//EN
CALSCALE:GREGORIAN
METHOD:PUBLISH
X-WR-CALNAME:Community Foundation of Southern New Mexico
X-ORIGINAL-URL:https://www.communityfoundationofsouthernnewmexico.org
X-WR-CALDESC:Events for Community Foundation of Southern New Mexico
REFRESH-INTERVAL;VALUE=DURATION:PT1H
X-Robots-Tag:noindex
X-PUBLISHED-TTL:PT1H
BEGIN:VTIMEZONE
TZID:Asia/Krasnoyarsk
BEGIN:STANDARD
TZOFFSETFROM:+0700
TZOFFSETTO:+0700
TZNAME:+07
DTSTART:20230101T000000
END:STANDARD
END:VTIMEZONE
BEGIN:VEVENT
DTSTART;TZID=Asia/Krasnoyarsk:20240816T110000
DTEND;TZID=Asia/Krasnoyarsk:20240816T120000
DTSTAMP:20260423T011551
CREATED:20240815T192247Z
LAST-MODIFIED:20240815T201902Z
UID:10000028-1723806000-1723809600@www.communityfoundationofsouthernnewmexico.org
SUMMARY:Rock Steady Boxing
DESCRIPTION:Rock Steady Boxing is now being held at Maximum Martial Arts\, 1705 E. University Ave. Las Cruces. Contact Jon Roberts (702.214.0450) for more information and how to enroll. Meets Monday\, Wednesday\, and Friday.
URL:https://www.communityfoundationofsouthernnewmexico.org/event/rock-steady-boxing/
LOCATION:Maximum Martial Arts\, 1705 E. University Ave\, Las Cruces\, New Mexico\, 88001\, United States
END:VEVENT
BEGIN:VEVENT
DTSTART;TZID=Asia/Krasnoyarsk:20240819T100000
DTEND;TZID=Asia/Krasnoyarsk:20240819T110000
DTSTAMP:20260423T011551
CREATED:20240815T193824Z
LAST-MODIFIED:20240815T193824Z
UID:10000029-1724061600-1724065200@www.communityfoundationofsouthernnewmexico.org
SUMMARY:Parkinson's Exercise Class
DESCRIPTION:The Parkinson’s Exercise class\, New Pathways\, for Parkinson’s\, is led by Medical Exercise Specialist\, Carol A. Witham. The class is held every Monday and Wednesday at 10:00 am at the Genesis Village at Northrise\, Hallmark Building\, second level. Contact Sarah Stegall for details (575.496.2550).
URL:https://www.communityfoundationofsouthernnewmexico.org/event/parkinsons-exercise-class/
LOCATION:The Village at Northrise – The Hallmark\, 2882 Roadrunner Pkwy\, Las Cruces\, New Mexico\, 88011\, United States
END:VEVENT
BEGIN:VEVENT
DTSTART;TZID=Asia/Krasnoyarsk:20240820T090000
DTEND;TZID=Asia/Krasnoyarsk:20240820T120000
DTSTAMP:20260423T011551
CREATED:20240815T195134Z
LAST-MODIFIED:20240815T201629Z
UID:10000030-1724144400-1724155200@www.communityfoundationofsouthernnewmexico.org
SUMMARY:Parkinson's Disease Support Group - Monthly Support Group Meeting
DESCRIPTION:Support Group Meetings are held on the third Tuesday each month at Holiday Inn Express\, 2142 Telshor Court\, Las Cruces. The meeting begins at 9:45 am. 9:00 to 9:40 am is social time\, come early and get to know other supporting group attendees! Carol A. Witham leads a breakout session for caregivers.
URL:https://www.communityfoundationofsouthernnewmexico.org/event/monthly-support-group-meeting/
LOCATION:Holiday Inn Express\, 2142 Telshor Court\, Las Cruces\, New Mexico\, 88011\, United States
END:VEVENT
BEGIN:VEVENT
DTSTART;TZID=Asia/Krasnoyarsk:20240821T101500
DTEND;TZID=Asia/Krasnoyarsk:20240821T110000
DTSTAMP:20260423T011551
CREATED:20240815T195830Z
LAST-MODIFIED:20240815T195831Z
UID:10000031-1724235300-1724238000@www.communityfoundationofsouthernnewmexico.org
SUMMARY:Laughter Yoga
DESCRIPTION:Laughter Yoga is a popular movement and breathing exercise that aims to cultivate joy\, bring out your inner child\, and help let go of daily life stressors. Laughter Yoga involves various movement and breathing exercises to promote intentional laughter. A typical class will include breathing exercises and chanting.
URL:https://www.communityfoundationofsouthernnewmexico.org/event/laughter-yoga/
LOCATION:Thomas Branigan Memorial Library\, Roadrunner Room 200\, 200 E Picacho Ave\, Las Cruces\, New Mexico\, 88001\, United States
END:VEVENT
BEGIN:VEVENT
DTSTART;TZID=Asia/Krasnoyarsk:20240830T000000
DTEND;TZID=Asia/Krasnoyarsk:20240830T235959
DTSTAMP:20260423T011551
CREATED:20240718T163224Z
LAST-MODIFIED:20240718T163225Z
UID:10000023-1724976000-1725062399@www.communityfoundationofsouthernnewmexico.org
SUMMARY:Southwest Center on Aging & Friends Golf Tournament 2024
DESCRIPTION:The Southwest Center on Aging (SWCOA) golf committee is excited to announce the 6th Annual SWCOA and Friends Charity Golf Tournament is coming on August 30th at the NMSU Golf Course. All proceeds will be donated to the Serving Seniors of Southern New Mexico Charity Fund to support seniors in our community! \n\n\n\nIn partnership with the Serving Seniors of Southern New Mexico fund\, the SWCOA and Friends invite you to showcase your business while helping seniors in our community. This event will allow the charity to support the greatest needs of the seniors in our community to make a larger impact and improve their quality of life. \n\n\n\nThis tournament has been a signature event for the past 6 years and the SWCOA and Friends have been the driving force behind bringing local businesses together for one day\, in one place\, to play for a good cause. We would be honored for you to join us as a tournament sponsor this year! This is an excellent opportunity to advertise your company in a variety of ways; from a banner with your company’s logo displayed at the tournament to your logo on t-shirts\, social media sites\, a booth at the event\, etc. \n\n\n\nOver the years\, the tournament has provided funding to the Alzheimer’s Association and Casa de Peregrinos to support seniors in southern New Mexico. The partnership with local charities has been fruitful and made a huge impact on our community. This impact has far exceeded our expectations and motivates our organization to support our elderly even more. \n\n\n\nThanks to your partnership and generosity\, in 2023 we were able to raise more than $35\,000 to provide support to seniors in our community. In 2024\, we want to surpass our prior totals and we hope that you will join us in our mission to support seniors by sponsoring this event. We welcome you to visit www.servingseniorsnm.com for more information about the charity fund.  \n\n\n\nGolf sponsorships\, itineraries and tournament information can be found at www.swcoagolf.com We are truly grateful for your consideration in partnering with us and look forward to seeing you at the tournament!
URL:https://www.communityfoundationofsouthernnewmexico.org/event/southwest-center-on-aging-friends-golf-tournament-2024/
END:VEVENT
END:VCALENDAR