BEGIN:VCALENDAR
VERSION:2.0
PRODID:-//Community Foundation of Southern New Mexico - ECPv6.15.13//NONSGML v1.0//EN
CALSCALE:GREGORIAN
METHOD:PUBLISH
X-WR-CALNAME:Community Foundation of Southern New Mexico
X-ORIGINAL-URL:https://www.communityfoundationofsouthernnewmexico.org
X-WR-CALDESC:Events for Community Foundation of Southern New Mexico
REFRESH-INTERVAL;VALUE=DURATION:PT1H
X-Robots-Tag:noindex
X-PUBLISHED-TTL:PT1H
BEGIN:VTIMEZONE
TZID:Asia/Krasnoyarsk
BEGIN:STANDARD
TZOFFSETFROM:+0700
TZOFFSETTO:+0700
TZNAME:+07
DTSTART:20230101T000000
END:STANDARD
END:VTIMEZONE
BEGIN:VEVENT
DTSTART;TZID=Asia/Krasnoyarsk:20240313T120000
DTEND;TZID=Asia/Krasnoyarsk:20240313T130000
DTSTAMP:20260423T075648
CREATED:20240313T151718Z
LAST-MODIFIED:20240313T165241Z
UID:10000008-1710331200-1710334800@www.communityfoundationofsouthernnewmexico.org
SUMMARY:Interagency Council
DESCRIPTION:The Interagency Council is an informal group of social service providers (nonprofits\, government agencies\, etc.) that meets on the second Wednesday of each month. Anyone in the community is welcomed to participate in the Interagency Council. There is NO cost. It is not necessary to RSVP. People show up when their schedule permits. \n\n\n\nAt the Interagency Council\, all attendees are given an opportunity to make announcements about their particular agency. One organization is highlighted and makes a formal presentation about the services and programs they provide. Minutes are taken and are distributed to the list via email.
URL:https://www.communityfoundationofsouthernnewmexico.org/event/interagency-council/
END:VEVENT
BEGIN:VEVENT
DTSTART;TZID=Asia/Krasnoyarsk:20240321T113000
DTEND;TZID=Asia/Krasnoyarsk:20240321T130000
DTSTAMP:20260423T075648
CREATED:20240313T153213Z
LAST-MODIFIED:20240313T153214Z
UID:10000009-1711020600-1711026000@www.communityfoundationofsouthernnewmexico.org
SUMMARY:REALIZE x Las Cruces Lunch & Learn: Course 1: Roles and Responsibilities of Individual Board Members
DESCRIPTION:Learn critical responsibilities of nonprofit board service from local BoardSource certified trainers. The Lunch & Learn series curriculum offers courses focused on understanding board member roles and responsibilities\, nonprofit board structures\, fundraising fundamentals and financial due diligence.  \n\n\n\n​Nonprofit board members\, senior staff\, and those who plan to serve on a board are encouraged to attend.  \n\n\n\nThe courses do not need to be taken all together. If you are a nonprofit leader\, board member\, volunteer or interested in being on a board choose the ones most suited to your interest.  Nonprofits that have at least one attendee for all 8 courses will receive special recognition and their registration fees back as a grant.  For questions please email info@cfsnm.org or give our offices a call at 575-521-4794.
URL:https://www.communityfoundationofsouthernnewmexico.org/event/realize-x-las-cruces-lunch-learn-course-1-roles-and-responsibilities-of-individual-board-members/
LOCATION:Community Foundation of Southern New Mexico\, 2640 El Paseo Rd\, Las Cruces\, 88001\, United States
END:VEVENT
BEGIN:VEVENT
DTSTART;TZID=Asia/Krasnoyarsk:20240328T113000
DTEND;TZID=Asia/Krasnoyarsk:20240328T130000
DTSTAMP:20260423T075648
CREATED:20240313T153451Z
LAST-MODIFIED:20240314T152938Z
UID:10000010-1711625400-1711630800@www.communityfoundationofsouthernnewmexico.org
SUMMARY:REALIZE x Las Cruces Lunch & Learn: Course 2: Essential Functions of a Nonprofit Board
DESCRIPTION:Learn critical responsibilities of nonprofit board service from local BoardSource certified trainers. The Lunch & Learn series curriculum offers courses focused on understanding board member roles and responsibilities\, nonprofit board structures\, fundraising fundamentals and financial due diligence.  \n\n\n\n​Nonprofit board members\, senior staff\, and those who plan to serve on a board are encouraged to attend.  \n\n\n\nThe courses do not need to be taken all together. If you are a nonprofit leader\, board member\, volunteer or interested in being on a board choose the ones most suited to your interest.  Nonprofits that have at least one attendee for all 8 courses will receive special recognition and their registration fees back as a grant.  For questions please email info@cfsnm.org or give our offices a call at 575-521-4794.
URL:https://www.communityfoundationofsouthernnewmexico.org/event/realize-x-las-cruces-lunch-learn-course-2-essential-functions-of-a-nonprofit-board/
LOCATION:Community Foundation of Southern New Mexico\, 2640 El Paseo Rd\, Las Cruces\, 88001\, United States
END:VEVENT
END:VCALENDAR