BEGIN:VCALENDAR
VERSION:2.0
PRODID:-//Community Foundation of Southern New Mexico - ECPv6.15.13//NONSGML v1.0//EN
CALSCALE:GREGORIAN
METHOD:PUBLISH
X-WR-CALNAME:Community Foundation of Southern New Mexico
X-ORIGINAL-URL:https://www.communityfoundationofsouthernnewmexico.org
X-WR-CALDESC:Events for Community Foundation of Southern New Mexico
REFRESH-INTERVAL;VALUE=DURATION:PT1H
X-Robots-Tag:noindex
X-PUBLISHED-TTL:PT1H
BEGIN:VTIMEZONE
TZID:UTC
BEGIN:STANDARD
TZOFFSETFROM:+0000
TZOFFSETTO:+0000
TZNAME:UTC
DTSTART:20230101T000000
END:STANDARD
END:VTIMEZONE
BEGIN:VEVENT
DTSTART;TZID=UTC:20240220T170000
DTEND;TZID=UTC:20240220T170000
DTSTAMP:20260423T092101
CREATED:20231218T085405Z
LAST-MODIFIED:20240219T110340Z
UID:10000005-1708448400-1708448400@www.communityfoundationofsouthernnewmexico.org
SUMMARY:100 Who Give
DESCRIPTION:Bring your friends or come make new friends! This evening is about being together with our community to support the causes closet to our hearts.  \n\n\n\nWe are excited that Daniel Sanchez will be performing\, and Mad Street BBQ will be available to purchase a delicious meal or treat!  \n\n\n\n100 Who Give was created as an opportunity for our community to come together to make a difference! Our first event of 2024 is taking place on February 20th at 5:00 pm at Rio Grande Winery!  At each 100 Who Give event\, we invite you to join us in making a huge impact by raising funds for a local nonprofit or charitable cause. Each $100 nomination casts a ballot to decide which local nonprofit or charity will receive the evening’s donations! You can also choose to donate another amount to contribute to supporting the cause or donate as a group! Give now or on February 20th! Together\, we can make a difference! For more information contact the Community Foundation of Southern New Mexico at 575-521-4794.
URL:https://www.communityfoundationofsouthernnewmexico.org/event/100-who-give/
LOCATION:Rio Grande Winery\, 5321 NM-28\, Las Cruces\, New Mexico\, 88005
ATTACH;FMTTYPE=image/jpeg:https://www.communityfoundationofsouthernnewmexico.org/wp-content/uploads/2023/06/100WhoGive.jpg
END:VEVENT
END:VCALENDAR