BEGIN:VCALENDAR
VERSION:2.0
PRODID:-//Community Foundation of Southern New Mexico - ECPv6.15.13//NONSGML v1.0//EN
CALSCALE:GREGORIAN
METHOD:PUBLISH
X-WR-CALNAME:Community Foundation of Southern New Mexico
X-ORIGINAL-URL:https://www.communityfoundationofsouthernnewmexico.org
X-WR-CALDESC:Events for Community Foundation of Southern New Mexico
REFRESH-INTERVAL;VALUE=DURATION:PT1H
X-Robots-Tag:noindex
X-PUBLISHED-TTL:PT1H
BEGIN:VTIMEZONE
TZID:UTC
BEGIN:STANDARD
TZOFFSETFROM:+0000
TZOFFSETTO:+0000
TZNAME:UTC
DTSTART:20230101T000000
END:STANDARD
END:VTIMEZONE
BEGIN:VEVENT
DTSTART;TZID=UTC:20240108T080000
DTEND;TZID=UTC:20240108T080000
DTSTAMP:20260423T102745
CREATED:20231218T085129Z
LAST-MODIFIED:20240108T163226Z
UID:10000004-1704700800-1704700800@www.communityfoundationofsouthernnewmexico.org
SUMMARY:SNM Giving Day Registration Opens
DESCRIPTION:
URL:https://www.communityfoundationofsouthernnewmexico.org/event/snm-giving-day-registration-closes-2/
END:VEVENT
END:VCALENDAR