BEGIN:VCALENDAR
VERSION:2.0
PRODID:-//Community Foundation of Southern New Mexico - ECPv6.15.13//NONSGML v1.0//EN
CALSCALE:GREGORIAN
METHOD:PUBLISH
X-WR-CALNAME:Community Foundation of Southern New Mexico
X-ORIGINAL-URL:https://www.communityfoundationofsouthernnewmexico.org
X-WR-CALDESC:Events for Community Foundation of Southern New Mexico
REFRESH-INTERVAL;VALUE=DURATION:PT1H
X-Robots-Tag:noindex
X-PUBLISHED-TTL:PT1H
BEGIN:VTIMEZONE
TZID:Asia/Krasnoyarsk
BEGIN:STANDARD
TZOFFSETFROM:+0700
TZOFFSETTO:+0700
TZNAME:+07
DTSTART:20250101T000000
END:STANDARD
END:VTIMEZONE
BEGIN:VEVENT
DTSTART;TZID=Asia/Krasnoyarsk:20260425T110000
DTEND;TZID=Asia/Krasnoyarsk:20260425T140000
DTSTAMP:20260424T031001
CREATED:20260402T173941Z
LAST-MODIFIED:20260402T173945Z
UID:10000287-1777114800-1777125600@www.communityfoundationofsouthernnewmexico.org
SUMMARY:St Andrews Hospitality House 2nd Annual BBQ
DESCRIPTION:St. Andrew’s Hospitality House is hosting its 2nd Annual Pulled Pork Barbecue Fundraiser.Saturday\, April 25\, 2026 from 11 AM to 2 PM \n\n\n\nFeaturing: Pulled Pork BBQ Sandwich plate\, including a Pulled Pork BBQ Sandwich\, Cole Slaw\, Corn\, Beans\, and a dessert. Eat in or Take out. Also\, Live Music\, and raffle. \n\n\n\nCost: $15.00. Tickets can be purchased in advance online at: https://tinyurl.com/HH-BBQ-Tickets or call:(575) 249-8697 \n\n\n\nThe St. Andrew’s Hospitality House is a 501(c)(3) non-profit\, non-denominational facility offering temporary housing for patients and families in a safe\, secure\, no-cost environment for patients and families while the patient receives medical treatment. For more than nine years\, we have operated with funds donated directly from the community and community fundraisers like the annual Fall Spaghetti Dinner. \n\n\n\nWebsite: https://www.standrewshospitalityhouse.org/Facebook:https://www.facebook.com/SaintAndrewsHospitalityHouse \n\n\n\n(For more information about the Hospitality House\, contact Christine Courtney\, Executive Director\, St. Andrew’s Hospitality House\, 575-249-8697)
URL:https://www.communityfoundationofsouthernnewmexico.org/event/st-andrews-hospitality-house-2nd-annual-bbq/
ORGANIZER;CN="St. Andrew's Hospitality House":MAILTO:saintandrews.hh@gmail.com
END:VEVENT
END:VCALENDAR