BEGIN:VCALENDAR
VERSION:2.0
PRODID:-//Community Foundation of Southern New Mexico - ECPv6.15.13//NONSGML v1.0//EN
CALSCALE:GREGORIAN
METHOD:PUBLISH
X-WR-CALNAME:Community Foundation of Southern New Mexico
X-ORIGINAL-URL:https://www.communityfoundationofsouthernnewmexico.org
X-WR-CALDESC:Events for Community Foundation of Southern New Mexico
REFRESH-INTERVAL;VALUE=DURATION:PT1H
X-Robots-Tag:noindex
X-PUBLISHED-TTL:PT1H
BEGIN:VTIMEZONE
TZID:Asia/Krasnoyarsk
BEGIN:STANDARD
TZOFFSETFROM:+0700
TZOFFSETTO:+0700
TZNAME:+07
DTSTART:20250101T000000
END:STANDARD
END:VTIMEZONE
BEGIN:VEVENT
DTSTART;TZID=Asia/Krasnoyarsk:20260421T093000
DTEND;TZID=Asia/Krasnoyarsk:20260421T120000
DTSTAMP:20260421T165838
CREATED:20260109T171127Z
LAST-MODIFIED:20260109T171130Z
UID:10000208-1776763800-1776772800@www.communityfoundationofsouthernnewmexico.org
SUMMARY:Parkinson's Support Group Monthly Meeting
DESCRIPTION:A gathering of people diagnosed with Parkinson’s and their caregivers for camaraderie and to hear a special speaker.Relatives and healthcare professionals are also welcome! \n\n\n\nGathering at 9:30 am – 10:30 amSpeaker at 10:30 am – 12:00 noon \n\n\n\nHoliday Inn Express (across from Sam’s)2142 Telshor CourtLas Cruces
URL:https://www.communityfoundationofsouthernnewmexico.org/event/parkinsons-support-group-monthly-meeting/2026-04-21/
END:VEVENT
END:VCALENDAR